BEGIN:VCALENDAR
VERSION:2.0
PRODID:-//Main Street Duncan - ECPv6.15.20//NONSGML v1.0//EN
CALSCALE:GREGORIAN
METHOD:PUBLISH
X-WR-CALNAME:Main Street Duncan
X-ORIGINAL-URL:https://mainstreetduncan.com
X-WR-CALDESC:Events for Main Street Duncan
REFRESH-INTERVAL;VALUE=DURATION:PT1H
X-Robots-Tag:noindex
X-PUBLISHED-TTL:PT1H
BEGIN:VTIMEZONE
TZID:America/Chicago
BEGIN:DAYLIGHT
TZOFFSETFROM:-0600
TZOFFSETTO:-0500
TZNAME:CDT
DTSTART:20230312T080000
END:DAYLIGHT
BEGIN:STANDARD
TZOFFSETFROM:-0500
TZOFFSETTO:-0600
TZNAME:CST
DTSTART:20231105T070000
END:STANDARD
BEGIN:DAYLIGHT
TZOFFSETFROM:-0600
TZOFFSETTO:-0500
TZNAME:CDT
DTSTART:20240310T080000
END:DAYLIGHT
BEGIN:STANDARD
TZOFFSETFROM:-0500
TZOFFSETTO:-0600
TZNAME:CST
DTSTART:20241103T070000
END:STANDARD
BEGIN:DAYLIGHT
TZOFFSETFROM:-0600
TZOFFSETTO:-0500
TZNAME:CDT
DTSTART:20250309T080000
END:DAYLIGHT
BEGIN:STANDARD
TZOFFSETFROM:-0500
TZOFFSETTO:-0600
TZNAME:CST
DTSTART:20251102T070000
END:STANDARD
BEGIN:DAYLIGHT
TZOFFSETFROM:-0600
TZOFFSETTO:-0500
TZNAME:CDT
DTSTART:20260308T080000
END:DAYLIGHT
BEGIN:STANDARD
TZOFFSETFROM:-0500
TZOFFSETTO:-0600
TZNAME:CST
DTSTART:20261101T070000
END:STANDARD
END:VTIMEZONE
BEGIN:VEVENT
DTSTART;TZID=America/Chicago:20250515T120000
DTEND;TZID=America/Chicago:20250515T130000
DTSTAMP:20260423T164856
CREATED:20250129T163855Z
LAST-MODIFIED:20250129T171439Z
UID:2729-1747310400-1747314000@mainstreetduncan.com
SUMMARY:Main Street Duncan Board Meeting
DESCRIPTION:
URL:https://mainstreetduncan.com/event/main-street-duncan-board-meeting-5/
LOCATION:Main Street Duncan\, 828 W Main St B\, Duncan\, OK\, 73533\, United States
CATEGORIES:Committee Meetings
ATTACH;FMTTYPE=image/png:https://mainstreetduncan.com/wp-content/uploads/2025/01/MainStreet-logo-e1738169021716.png
END:VEVENT
BEGIN:VEVENT
DTSTART;TZID=America/Chicago:20250508T153000
DTEND;TZID=America/Chicago:20250508T163000
DTSTAMP:20260423T164856
CREATED:20250128T210026Z
LAST-MODIFIED:20250129T171411Z
UID:2719-1746718200-1746721800@mainstreetduncan.com
SUMMARY:Main Street Duncan Organization Committee Meeting
DESCRIPTION:
URL:https://mainstreetduncan.com/event/main-street-duncan-organization-committee-meeting-may-25/
LOCATION:Main Street Duncan\, 828 W Main St B\, Duncan\, OK\, 73533\, United States
CATEGORIES:Committee Meetings
ATTACH;FMTTYPE=image/png:https://mainstreetduncan.com/wp-content/uploads/2025/01/MainStreet-logo-e1738169021716.png
END:VEVENT
BEGIN:VEVENT
DTSTART;TZID=America/Chicago:20250507T130000
DTEND;TZID=America/Chicago:20250507T140000
DTSTAMP:20260423T164856
CREATED:20250129T173302Z
LAST-MODIFIED:20250129T173302Z
UID:2747-1746622800-1746626400@mainstreetduncan.com
SUMMARY:Main Street Duncan Promotions Committee Meeting
DESCRIPTION:
URL:https://mainstreetduncan.com/event/main-street-duncan-promotions-committee-meeting-5/
LOCATION:Main Street Duncan\, 828 W Main St B\, Duncan\, OK\, 73533\, United States
CATEGORIES:Committee Meetings
ATTACH;FMTTYPE=image/png:https://mainstreetduncan.com/wp-content/uploads/2025/01/MainStreet-logo-e1738169021716.png
END:VEVENT
BEGIN:VEVENT
DTSTART;TZID=America/Chicago:20250506T110000
DTEND;TZID=America/Chicago:20250506T120000
DTSTAMP:20260423T164856
CREATED:20250129T165736Z
LAST-MODIFIED:20250129T165736Z
UID:2736-1746529200-1746532800@mainstreetduncan.com
SUMMARY:Main Street Duncan Design Committee Meeting
DESCRIPTION:
URL:https://mainstreetduncan.com/event/main-street-duncan-design-committee-meeting-4/
LOCATION:Main Street Duncan\, 828 W Main St B\, Duncan\, OK\, 73533\, United States
CATEGORIES:Committee Meetings
ATTACH;FMTTYPE=image/png:https://mainstreetduncan.com/wp-content/uploads/2025/01/MainStreet-logo-e1738169021716.png
END:VEVENT
BEGIN:VEVENT
DTSTART;TZID=America/Chicago:20250503T100000
DTEND;TZID=America/Chicago:20250503T160000
DTSTAMP:20260423T164856
CREATED:20250116T205450Z
LAST-MODIFIED:20250128T203344Z
UID:2621-1746266400-1746288000@mainstreetduncan.com
SUMMARY:Spring Stroll 2025
DESCRIPTION:May 3\, 2025 – 10:00 AM – 4:00 PM\n\n\n\nMain Street Duncan Spring Stroll – Explore all the amazing offerings from local merchants and find somethingspecial for the incredible women in your life! 🌸👗💐 \n\n 
URL:https://mainstreetduncan.com/event/spring-stroll-2025/
LOCATION:Main Street Duncan\, 828 W Main St B\, Duncan\, OK\, 73533\, United States
CATEGORIES:Main Events
ATTACH;FMTTYPE=image/jpeg:https://mainstreetduncan.com/wp-content/uploads/2025/01/Spring-Stroll-e1737060862672.jpg
END:VEVENT
BEGIN:VEVENT
DTSTART;TZID=America/Chicago:20250417T120000
DTEND;TZID=America/Chicago:20250417T130000
DTSTAMP:20260423T164856
CREATED:20250129T163811Z
LAST-MODIFIED:20250129T164356Z
UID:2727-1744891200-1744894800@mainstreetduncan.com
SUMMARY:Main Street Duncan Board Meeting
DESCRIPTION:
URL:https://mainstreetduncan.com/event/main-street-duncan-board-meeting-4/
LOCATION:Main Street Duncan\, 828 W Main St B\, Duncan\, OK\, 73533\, United States
CATEGORIES:Committee Meetings
ATTACH;FMTTYPE=image/png:https://mainstreetduncan.com/wp-content/uploads/2025/01/MainStreet-logo-e1738169021716.png
END:VEVENT
BEGIN:VEVENT
DTSTART;TZID=America/Chicago:20250410T153000
DTEND;TZID=America/Chicago:20250410T163000
DTSTAMP:20260423T164856
CREATED:20250128T205911Z
LAST-MODIFIED:20250129T171326Z
UID:2717-1744299000-1744302600@mainstreetduncan.com
SUMMARY:Main Street Duncan Organization Committee Meeting
DESCRIPTION:
URL:https://mainstreetduncan.com/event/main-street-duncan-organization-committee-meeting-apr-25/
LOCATION:Main Street Duncan\, 828 W Main St B\, Duncan\, OK\, 73533\, United States
CATEGORIES:Committee Meetings
ATTACH;FMTTYPE=image/png:https://mainstreetduncan.com/wp-content/uploads/2025/01/MainStreet-logo-e1738169021716.png
END:VEVENT
BEGIN:VEVENT
DTSTART;TZID=America/Chicago:20250402T130000
DTEND;TZID=America/Chicago:20250402T140000
DTSTAMP:20260423T164856
CREATED:20250129T173229Z
LAST-MODIFIED:20250129T173229Z
UID:2745-1743598800-1743602400@mainstreetduncan.com
SUMMARY:Main Street Duncan Promotions Committee Meeting
DESCRIPTION:
URL:https://mainstreetduncan.com/event/main-street-duncan-promotions-committee-meeting-4/
LOCATION:Main Street Duncan\, 828 W Main St B\, Duncan\, OK\, 73533\, United States
CATEGORIES:Committee Meetings
ATTACH;FMTTYPE=image/png:https://mainstreetduncan.com/wp-content/uploads/2025/01/MainStreet-logo-e1738169021716.png
END:VEVENT
BEGIN:VEVENT
DTSTART;TZID=America/Chicago:20250401T110000
DTEND;TZID=America/Chicago:20250401T120000
DTSTAMP:20260423T164856
CREATED:20250129T165705Z
LAST-MODIFIED:20250129T165705Z
UID:2735-1743505200-1743508800@mainstreetduncan.com
SUMMARY:Main Street Duncan Design Committee Meeting
DESCRIPTION:
URL:https://mainstreetduncan.com/event/main-street-duncan-design-committee-meeting-3/
LOCATION:Main Street Duncan\, 828 W Main St B\, Duncan\, OK\, 73533\, United States
CATEGORIES:Committee Meetings
ATTACH;FMTTYPE=image/png:https://mainstreetduncan.com/wp-content/uploads/2025/01/MainStreet-logo-e1738169021716.png
END:VEVENT
BEGIN:VEVENT
DTSTART;TZID=America/Chicago:20250321T170000
DTEND;TZID=America/Chicago:20250321T213000
DTSTAMP:20260423T164856
CREATED:20250116T202438Z
LAST-MODIFIED:20250224T214058Z
UID:2607-1742576400-1742592600@mainstreetduncan.com
SUMMARY:CANCELLED - Friday Night Car Cruise
DESCRIPTION:March 21\, 2025- CANCELLED\n\n\n\nIt is with great regret that Main Street Duncan announces the cancellation of the upcoming March 21 Friday Night Car Cruise. Due to the significant increase in insurance coverage costs\, driven in part by recent tragic events in New Orleans and other locations\, insurance providers are pricing the cost of this type of event’s coverage out of viability and as a result\, it is now financially unfeasible to continue hosting this beloved event. This decision was not made lightly\, as we understand the importance of the event to the community.
URL:https://mainstreetduncan.com/event/friday-night-car-cruise-2/
LOCATION:Main Street Duncan\, 828 W Main St B\, Duncan\, OK\, 73533\, United States
CATEGORIES:Main Events
ATTACH;FMTTYPE=image/jpeg:https://mainstreetduncan.com/wp-content/uploads/2025/01/Friday-Night-Car-Cruise-Logo-CANCELLED-e1740433248645.jpg
END:VEVENT
BEGIN:VEVENT
DTSTART;TZID=America/Chicago:20250320T120000
DTEND;TZID=America/Chicago:20250320T130000
DTSTAMP:20260423T164856
CREATED:20250129T163718Z
LAST-MODIFIED:20250129T170108Z
UID:2725-1742472000-1742475600@mainstreetduncan.com
SUMMARY:Main Street Duncan Board Meeting
DESCRIPTION:
URL:https://mainstreetduncan.com/event/main-street-duncan-board-meeting-3/
LOCATION:Main Street Duncan\, 828 W Main St B\, Duncan\, OK\, 73533\, United States
CATEGORIES:Committee Meetings
ATTACH;FMTTYPE=image/png:https://mainstreetduncan.com/wp-content/uploads/2025/01/MainStreet-logo-e1738169021716.png
END:VEVENT
BEGIN:VEVENT
DTSTART;TZID=America/Chicago:20250313T153000
DTEND;TZID=America/Chicago:20250313T163000
DTSTAMP:20260423T164856
CREATED:20250128T205632Z
LAST-MODIFIED:20250129T170029Z
UID:2715-1741879800-1741883400@mainstreetduncan.com
SUMMARY:Main Street Duncan Organization Committee Meeting
DESCRIPTION:
URL:https://mainstreetduncan.com/event/main-street-duncan-organization-committee-meeting-mar-25/
LOCATION:Main Street Duncan\, 828 W Main St B\, Duncan\, OK\, 73533\, United States
CATEGORIES:Committee Meetings
ATTACH;FMTTYPE=image/png:https://mainstreetduncan.com/wp-content/uploads/2025/01/MainStreet-logo-e1738169021716.png
END:VEVENT
BEGIN:VEVENT
DTSTART;TZID=America/Chicago:20250305T130000
DTEND;TZID=America/Chicago:20250305T140000
DTSTAMP:20260423T164856
CREATED:20250129T173148Z
LAST-MODIFIED:20250129T173148Z
UID:2743-1741179600-1741183200@mainstreetduncan.com
SUMMARY:Main Street Duncan Promotions Committee Meeting
DESCRIPTION:
URL:https://mainstreetduncan.com/event/main-street-duncan-promotions-committee-meeting-3/
LOCATION:Main Street Duncan\, 828 W Main St B\, Duncan\, OK\, 73533\, United States
CATEGORIES:Committee Meetings
ATTACH;FMTTYPE=image/png:https://mainstreetduncan.com/wp-content/uploads/2025/01/MainStreet-logo-e1738169021716.png
END:VEVENT
BEGIN:VEVENT
DTSTART;TZID=America/Chicago:20250304T110000
DTEND;TZID=America/Chicago:20250304T120000
DTSTAMP:20260423T164856
CREATED:20250129T164041Z
LAST-MODIFIED:20250129T165540Z
UID:2733-1741086000-1741089600@mainstreetduncan.com
SUMMARY:Main Street Duncan Design Committee Meeting
DESCRIPTION:
URL:https://mainstreetduncan.com/event/main-street-duncan-design-committee-meeting-2/
LOCATION:Main Street Duncan\, 828 W Main St B\, Duncan\, OK\, 73533\, United States
CATEGORIES:Committee Meetings
ATTACH;FMTTYPE=image/png:https://mainstreetduncan.com/wp-content/uploads/2025/01/MainStreet-logo-e1738169021716.png
END:VEVENT
BEGIN:VEVENT
DTSTART;TZID=America/Chicago:20250220T120000
DTEND;TZID=America/Chicago:20250220T130000
DTSTAMP:20260423T164856
CREATED:20250129T163631Z
LAST-MODIFIED:20250129T165945Z
UID:2723-1740052800-1740056400@mainstreetduncan.com
SUMMARY:Main Street Duncan Board Meeting
DESCRIPTION:
URL:https://mainstreetduncan.com/event/main-street-duncan-board-meeting-2/
LOCATION:Main Street Duncan\, 828 W Main St B\, Duncan\, OK\, 73533\, United States
CATEGORIES:Committee Meetings
ATTACH;FMTTYPE=image/png:https://mainstreetduncan.com/wp-content/uploads/2025/01/MainStreet-logo-e1738169021716.png
END:VEVENT
BEGIN:VEVENT
DTSTART;TZID=America/Chicago:20250213T153000
DTEND;TZID=America/Chicago:20250213T163000
DTSTAMP:20260423T164856
CREATED:20241015T215738Z
LAST-MODIFIED:20250129T165914Z
UID:2334-1739460600-1739464200@mainstreetduncan.com
SUMMARY:Main Street Duncan Organization Committee Meeting
DESCRIPTION:
URL:https://mainstreetduncan.com/event/main-street-duncan-organization-committee-meeting-nov/
LOCATION:Main Street Duncan\, 828 W Main St B\, Duncan\, OK\, 73533\, United States
CATEGORIES:Committee Meetings
ATTACH;FMTTYPE=image/png:https://mainstreetduncan.com/wp-content/uploads/2025/01/MainStreet-logo-e1738169021716.png
END:VEVENT
BEGIN:VEVENT
DTSTART;TZID=America/Chicago:20250205T130000
DTEND;TZID=America/Chicago:20250205T140000
DTSTAMP:20260423T164856
CREATED:20250129T173105Z
LAST-MODIFIED:20250129T173105Z
UID:2741-1738760400-1738764000@mainstreetduncan.com
SUMMARY:Main Street Duncan Promotions Committee Meeting
DESCRIPTION:
URL:https://mainstreetduncan.com/event/main-street-duncan-promotions-committee-meeting-2/
LOCATION:Main Street Duncan\, 828 W Main St B\, Duncan\, OK\, 73533\, United States
CATEGORIES:Committee Meetings
ATTACH;FMTTYPE=image/png:https://mainstreetduncan.com/wp-content/uploads/2025/01/MainStreet-logo-e1738169021716.png
END:VEVENT
BEGIN:VEVENT
DTSTART;TZID=America/Chicago:20250204T110000
DTEND;TZID=America/Chicago:20250204T120000
DTSTAMP:20260423T164856
CREATED:20250129T173425Z
LAST-MODIFIED:20250129T173425Z
UID:2751-1738666800-1738670400@mainstreetduncan.com
SUMMARY:Main Street Duncan Design Committee Meeting
DESCRIPTION:
URL:https://mainstreetduncan.com/event/main-street-duncan-design-committee-meeting-6/
LOCATION:Main Street Duncan\, 828 W Main St B\, Duncan\, OK\, 73533\, United States
CATEGORIES:Committee Meetings
ATTACH;FMTTYPE=image/png:https://mainstreetduncan.com/wp-content/uploads/2025/01/MainStreet-logo-e1738169021716.png
END:VEVENT
BEGIN:VEVENT
DTSTART;VALUE=DATE:20250101
DTEND;VALUE=DATE:20250102
DTSTAMP:20260423T164856
CREATED:20241209T211701Z
LAST-MODIFIED:20241209T211737Z
UID:2558-1735689600-1735775999@mainstreetduncan.com
SUMMARY:Main Street Duncan Office Closed
DESCRIPTION:Main Street Duncan Office will be closed Wednesday\, Jan. 1.
URL:https://mainstreetduncan.com/event/2558/
LOCATION:OK
END:VEVENT
BEGIN:VEVENT
DTSTART;VALUE=DATE:20241225
DTEND;VALUE=DATE:20241226
DTSTAMP:20260423T164856
CREATED:20241209T211604Z
LAST-MODIFIED:20241209T211604Z
UID:2556-1735084800-1735171199@mainstreetduncan.com
SUMMARY:Main Street Duncan Office Closed
DESCRIPTION:Main Street Duncan Office will be closed Wednesday\, Dec. 25
URL:https://mainstreetduncan.com/event/main-street-duncan-office-closed/
LOCATION:OK
END:VEVENT
BEGIN:VEVENT
DTSTART;TZID=America/Chicago:20241219T120000
DTEND;TZID=America/Chicago:20241219T130000
DTSTAMP:20260423T164856
CREATED:20240920T194430Z
LAST-MODIFIED:20241213T161003Z
UID:2055-1734609600-1734613200@mainstreetduncan.com
SUMMARY:Main Street Duncan Board Meeting - CANCELLED
DESCRIPTION:
URL:https://mainstreetduncan.com/event/main-street-duncan-board-meeting-dec/
LOCATION:Main Street Duncan\, 828 W Main St B\, Duncan\, OK\, 73533\, United States
CATEGORIES:Committee Meetings
END:VEVENT
BEGIN:VEVENT
DTSTART;TZID=America/Chicago:20241130T080000
DTEND;TZID=America/Chicago:20241130T170000
DTSTAMP:20260423T164856
CREATED:20241119T223027Z
LAST-MODIFIED:20241119T223027Z
UID:2465-1732953600-1732986000@mainstreetduncan.com
SUMMARY:Shop Small Saturday
DESCRIPTION:Main Street Duncan reminds the community to Shop Small\, Saturday\, Nov. 30.
URL:https://mainstreetduncan.com/event/shop-small-saturday/
LOCATION:Main Street Duncan\, 828 W Main St B\, Duncan\, OK\, 73533\, United States
ATTACH;FMTTYPE=image/png:https://mainstreetduncan.com/wp-content/uploads/2024/11/MainStreet-logo-e1738096601572.png
END:VEVENT
BEGIN:VEVENT
DTSTART;TZID=America/Chicago:20241121T120000
DTEND;TZID=America/Chicago:20241121T130000
DTSTAMP:20260423T164856
CREATED:20240920T194346Z
LAST-MODIFIED:20241015T193518Z
UID:2053-1732190400-1732194000@mainstreetduncan.com
SUMMARY:Main Street Duncan Board Meeting
DESCRIPTION:
URL:https://mainstreetduncan.com/event/main-street-duncan-board-meeting-nov/
LOCATION:Main Street Duncan\, 828 W Main St B\, Duncan\, OK\, 73533\, United States
CATEGORIES:Committee Meetings
END:VEVENT
BEGIN:VEVENT
DTSTART;TZID=America/Chicago:20241116T160000
DTEND;TZID=America/Chicago:20241116T200000
DTSTAMP:20260423T164856
CREATED:20240813T212508Z
LAST-MODIFIED:20241116T014231Z
UID:1480-1731772800-1731787200@mainstreetduncan.com
SUMMARY:Holiday Stroll
DESCRIPTION:November 16\, 2024 – 4 PM – 8 PM\n\n\n\nHoliday Stroll will be Saturday\, November 16 from 4-8 PM in historic downtown Duncan\, Oklahoma. \n\n\n\nYou’ll definitely want to visit downtown Duncan and #shoplocal as the restaurants\, boutiques\, and store fronts that are offering new merchandise\, discounts\, gift with purchase and more! Each store has something special and will vary in specials and selections. We look forward to seeing you all downtown for the Holiday Stroll! \nError: Contact form not found. \n\n\n\n\n 
URL:https://mainstreetduncan.com/event/holiday-stroll/
LOCATION:Main Street Duncan\, 828 W Main St B\, Duncan\, OK\, 73533\, United States
CATEGORIES:Main Events
ATTACH;FMTTYPE=image/png:https://mainstreetduncan.com/wp-content/uploads/2024/08/Stroll.png
END:VEVENT
BEGIN:VEVENT
DTSTART;TZID=America/Chicago:20241109T103000
DTEND;TZID=America/Chicago:20241109T120000
DTSTAMP:20260423T164856
CREATED:20240813T212317Z
LAST-MODIFIED:20241015T194435Z
UID:1477-1731148200-1731153600@mainstreetduncan.com
SUMMARY:Veteran's Day Parade - hosted by Amvets Post 11
DESCRIPTION:November 9\, 2024 – 10:30 AM – 12:00 PM\n\n\n\nhosted by Amvets Post 11 \n\n\n\n**Please contact Commander Ken Youngblood for parade details\, (580) 786-4865
URL:https://mainstreetduncan.com/event/veterans-day-parade/
LOCATION:Main Street Duncan\, 828 W Main St B\, Duncan\, OK\, 73533\, United States
CATEGORIES:Main Events
ORGANIZER;CN="Amvets Post 11":MAILTO:Amvetspost11@outlook.com
END:VEVENT
BEGIN:VEVENT
DTSTART;TZID=America/Chicago:20241106T130000
DTEND;TZID=America/Chicago:20241106T140000
DTSTAMP:20260423T164856
CREATED:20241015T215905Z
LAST-MODIFIED:20241015T193629Z
UID:2336-1730898000-1730901600@mainstreetduncan.com
SUMMARY:Main Street Duncan Promotions Committee Meeting
DESCRIPTION:
URL:https://mainstreetduncan.com/event/main-street-duncan-promotions-committee-meeting-nov/
LOCATION:Main Street Duncan\, 828 W Main St B\, Duncan\, OK\, 73533\, United States
CATEGORIES:Committee Meetings
END:VEVENT
BEGIN:VEVENT
DTSTART;TZID=America/Chicago:20241105T120000
DTEND;TZID=America/Chicago:20241105T130000
DTSTAMP:20260423T164856
CREATED:20241015T220019Z
LAST-MODIFIED:20241015T193619Z
UID:2338-1730808000-1730811600@mainstreetduncan.com
SUMMARY:Main Street Duncan Economic Vitality Committee Meeting
DESCRIPTION:
URL:https://mainstreetduncan.com/event/main-street-duncan-economic-vitality-committee-meeting-nov/
LOCATION:Main Street Duncan\, 828 W Main St B\, Duncan\, OK\, 73533\, United States
CATEGORIES:Committee Meetings
END:VEVENT
BEGIN:VEVENT
DTSTART;TZID=America/Chicago:20241105T110000
DTEND;TZID=America/Chicago:20241105T120000
DTSTAMP:20260423T164856
CREATED:20241015T215612Z
LAST-MODIFIED:20241015T193608Z
UID:2332-1730804400-1730808000@mainstreetduncan.com
SUMMARY:Main Street Duncan Design Committee Meeting
DESCRIPTION:
URL:https://mainstreetduncan.com/event/main-street-duncan-design-committee-meeting-nov/
LOCATION:Main Street Duncan\, 828 W Main St B\, Duncan\, OK\, 73533\, United States
CATEGORIES:Committee Meetings
END:VEVENT
BEGIN:VEVENT
DTSTART;TZID=America/Chicago:20241026T110000
DTEND;TZID=America/Chicago:20241026T130000
DTSTAMP:20260423T164856
CREATED:20241009T045322Z
LAST-MODIFIED:20241023T194943Z
UID:1330-1729940400-1729947600@mainstreetduncan.com
SUMMARY:Annual Boo Review
DESCRIPTION:Saturday\, October 26th\, 2024 – 11 AM – 1 PM\n\n\n\n\n\n \n\n\n\nJoin us for the annual Main Street Duncan Boo Review. Saturday\, October 26th 11am – 1pm. \n\n\n\nKid’s Costume Contest will take place at 12noon in the parking lot next to the Palace Theatre. And of course\, Main Street Merchants will have trick or treating for kids in costumes. \n\n\n\nKid’s Costume Contest will take place at 12noon in the parking lot next to the Palace Theatre. 🎃Costume Categories:Scary / Cutest / Creative🎃Age Groups:Infant-3 years\, 4-7 years\, 8-11 years\, and 12-17 yearsPrizes 1st – 3rd🎃Group Category (infant – 17 years old\, adults allowed with children) – 1st place winner only
URL:https://mainstreetduncan.com/event/boo-review-2024/
LOCATION:Main Street Duncan\, 828 W Main St B\, Duncan\, OK\, 73533\, United States
CATEGORIES:Main Events
ATTACH;FMTTYPE=image/png:https://mainstreetduncan.com/wp-content/uploads/2024/08/BooReview.png
END:VEVENT
BEGIN:VEVENT
DTSTART;TZID=America/Chicago:20241017T120000
DTEND;TZID=America/Chicago:20241017T130000
DTSTAMP:20260423T164856
CREATED:20240920T193951Z
LAST-MODIFIED:20241015T193453Z
UID:2049-1729166400-1729170000@mainstreetduncan.com
SUMMARY:Main Street Duncan Board Meeting
DESCRIPTION:
URL:https://mainstreetduncan.com/event/main-street-duncan-board-meeting-oct/
LOCATION:Main Street Duncan\, 828 W Main St B\, Duncan\, OK\, 73533\, United States
CATEGORIES:Committee Meetings
END:VEVENT
END:VCALENDAR