BEGIN:VCALENDAR
VERSION:2.0
PRODID:-//Main Street Duncan - ECPv6.15.20//NONSGML v1.0//EN
CALSCALE:GREGORIAN
METHOD:PUBLISH
X-ORIGINAL-URL:https://mainstreetduncan.com
X-WR-CALDESC:Events for Main Street Duncan
REFRESH-INTERVAL;VALUE=DURATION:PT1H
X-Robots-Tag:noindex
X-PUBLISHED-TTL:PT1H
BEGIN:VTIMEZONE
TZID:America/Chicago
BEGIN:DAYLIGHT
TZOFFSETFROM:-0600
TZOFFSETTO:-0500
TZNAME:CDT
DTSTART:20250309T080000
END:DAYLIGHT
BEGIN:STANDARD
TZOFFSETFROM:-0500
TZOFFSETTO:-0600
TZNAME:CST
DTSTART:20251102T070000
END:STANDARD
BEGIN:DAYLIGHT
TZOFFSETFROM:-0600
TZOFFSETTO:-0500
TZNAME:CDT
DTSTART:20260308T080000
END:DAYLIGHT
BEGIN:STANDARD
TZOFFSETFROM:-0500
TZOFFSETTO:-0600
TZNAME:CST
DTSTART:20261101T070000
END:STANDARD
BEGIN:DAYLIGHT
TZOFFSETFROM:-0600
TZOFFSETTO:-0500
TZNAME:CDT
DTSTART:20270314T080000
END:DAYLIGHT
BEGIN:STANDARD
TZOFFSETFROM:-0500
TZOFFSETTO:-0600
TZNAME:CST
DTSTART:20271107T070000
END:STANDARD
END:VTIMEZONE
BEGIN:VEVENT
DTSTART;TZID=America/Chicago:20260411T100000
DTEND;TZID=America/Chicago:20260411T170000
DTSTAMP:20260423T125219
CREATED:20260409T011148Z
LAST-MODIFIED:20260409T011148Z
UID:4023-1775901600-1775926800@mainstreetduncan.com
SUMMARY:Spring Stroll on Main Street - Over $500 in prizes!
DESCRIPTION:Shop your favorite Main Street merchant for special savings\, giveaways and goodies!  Get a sticker package with purchase (while supplies last) and you might just get one that has the “Golden Sticker” which means you’ve won one of our Grand Prizes from Main Street Duncan 🙂\nStart shopping early\, event is 10am-5pm (or merchant’s regular hours) for the best chance at over $500 in prizes!!\n(If severe weather occurs\, rain date is 4/18) \nhttps://mainstreetduncan.com/wp-content/uploads/2026/04/Spring-Stroll-video1.mp4
URL:https://mainstreetduncan.com/event/spring-stroll-on-main-street-over-500-in-prizes/
LOCATION:Main Street Duncan\, 828 W Main St B\, Duncan\, OK\, 73533\, United States
END:VEVENT
BEGIN:VEVENT
DTSTART;TZID=America/Chicago:20260423T160000
DTEND;TZID=America/Chicago:20260423T190000
DTSTAMP:20260423T125219
CREATED:20260409T015607Z
LAST-MODIFIED:20260409T015607Z
UID:4031-1776960000-1776970800@mainstreetduncan.com
SUMMARY:Flash. Mob. Shop on Main! Over $500 in giveaways and prizes - FREE event!
DESCRIPTION:$25 in goodies in EVERY FREE SHOPPER BAG and $500 in giveaways!  This event keeps growing in goodies. All you have to do is show up and Flash. Mob. Shop on Main!  Bring your friends to Vintage Treasures enjoy special savings and freebies! Be one of the FIRST 50 SHOPPERS to guarantee your bag 🙂
URL:https://mainstreetduncan.com/event/flash-mob-shop-on-main-over-500-in-giveaways-and-prizes-free-event-2/
LOCATION:Vintage Treasures\, 910 W Main Street\, Duncan\, OK\, 73533\, United States
END:VEVENT
BEGIN:VEVENT
DTSTART;TZID=America/Chicago:20260606T080000
DTEND;TZID=America/Chicago:20260606T140000
DTSTAMP:20260423T125219
CREATED:20260409T013251Z
LAST-MODIFIED:20260409T013321Z
UID:4027-1780732800-1780754400@mainstreetduncan.com
SUMMARY:Chisholm Trail Car & Motorcycle Show - Motors\, Music & More!
DESCRIPTION:The annual Chisholm Trail Car Show is coming back in all its ‘ol Glory!  This year the theme is “Thunder on the Trail” and you can look forward to all the cool cars\, live music\, great food\, cold brews and more.  New “Hometown Heroes” section you will not want to miss – visit EMS\, police\, fire\, fun demonstrations and a couple of “stormy surprises”!  Kid’s Adventure section\, too.\n$20 Registration begins at 8am and the show is 10am to 2pm.  30 awards\, special prizes and lots to see and do 🙂\n(Don’t miss the fun Poker Run the night before 6/5 registration begins at 5pm with great prizes and $10 hands.)
URL:https://mainstreetduncan.com/event/chisholm-trail-car-motorcycle-show-motors-music-more/
LOCATION:Main Street Duncan\, 828 W Main St B\, Duncan\, OK\, 73533\, United States
END:VEVENT
END:VCALENDAR