BEGIN:VCALENDAR
VERSION:2.0
PRODID:-//Main Street Duncan - ECPv6.15.20//NONSGML v1.0//EN
CALSCALE:GREGORIAN
METHOD:PUBLISH
X-WR-CALNAME:Main Street Duncan
X-ORIGINAL-URL:https://mainstreetduncan.com
X-WR-CALDESC:Events for Main Street Duncan
REFRESH-INTERVAL;VALUE=DURATION:PT1H
X-Robots-Tag:noindex
X-PUBLISHED-TTL:PT1H
BEGIN:VTIMEZONE
TZID:UTC
BEGIN:STANDARD
TZOFFSETFROM:+0000
TZOFFSETTO:+0000
TZNAME:UTC
DTSTART:20230101T000000
END:STANDARD
END:VTIMEZONE
BEGIN:VEVENT
DTSTART;TZID=UTC:20240920T180000
DTEND;TZID=UTC:20240920T213000
DTSTAMP:20260423T164559
CREATED:20240809T044226Z
LAST-MODIFIED:20240921T014631Z
UID:1328-1726855200-1726867800@mainstreetduncan.com
SUMMARY:Friday Night Car Cruise & Modified Car Show
DESCRIPTION:Join us for the last Friday night Car Cruise of 2024!\n\nDue to the Car Show cancellation in April\, we will be hosting a mini/ modified Car Show as well. \n  \n\n\n\n  \nFriday\, September 20\, 20246:00p.m. – 9:30p.m.\n*Entry Fees: $20 Car Show Entry & Cruise / $15 Cruise Only* \n\n\nEvent Schedule\n6pm-7:30pm – Car Show on Main Street8:15pm – Car show Winners Announced8:15pm-9:30pm – Car Cruise on Main Street only \n  \n\n\n  \nAwards to be presented:\n*Best Club Participation\, sponsored by Ken Bates Guitar Bazaar*Best Engine\, sponsored by Friends of Marcus McEntire*Best Family Duo\, sponsored by Endurance Federal Credit Union*Best Paint\, sponsored by Michel Collision Center*City of Duncan Pick\, sponsored by Duncan Power*Longest Distance Traveled\, sponsored by Visit Duncan*Model 1 Commercial Vehicles Top Pick\, sponsored by Model 1 Commercial Vehicles
URL:https://mainstreetduncan.com/event/friday-night-car-cruise/
LOCATION:Main Street Duncan\, 828 W Main St B\, Duncan\, OK\, 73533\, United States
CATEGORIES:Main Events
ATTACH;FMTTYPE=image/png:https://mainstreetduncan.com/wp-content/uploads/2024/08/CarCruise.png
END:VEVENT
BEGIN:VEVENT
DTSTART;TZID=UTC:20240913T180000
DTEND;TZID=UTC:20240914T180000
DTSTAMP:20260423T164559
CREATED:20240809T043829Z
LAST-MODIFIED:20240909T233642Z
UID:1324-1726250400-1726336800@mainstreetduncan.com
SUMMARY:Wine'n on the Chisholm Trail 2024
DESCRIPTION:17TH ANNUAL WINE’N ON THE CHISHOLM TRAIL FESTIVAL\nAnnually held the second weekend in September \n\nThis two-day event is held on Friday\, Sept. 13th\, 2024 and Saturday\, Sept. 14th\, 2024. \n\n\n\n\nFriday\, September 13th\n\n6-10 PM\, dinner will be served from 6:30-9 PM. Tickets for Friday’s Italian-style dinner under the Oklahoma stars can be purchased at Eventbrite. Advance purchase is encouraged as tickets will sell out. Dinner consists of a gourmet meal\, wine from Oklahoma wineries while enjoying live musical entertainment.  \nTickets for Friday’s Dinner: $40 \nPurchase tickets HERE \n\n\n\nSaturday\, September 14th\n\n11 AM to 5 PM\, enjoy samples from Oklahoma wineries with entry fee of $10. Vendors will be onsite\, and food trucks are available all day.  \nWine glasses will be available for purchase for $15. \n\n\n\n\nLocation\n\nFriday\, Sept\, 13: 9th Street between Main Street & Walnut Ave. \nFor GPS Directions\, search The Duncan Tower \nSaturday\, Sept. 14: Main Street\, 7th – 10th Street will be full of vendors & food trucks & 9th Street between Main Street & Walnut Ave will be wineries \nFrom OKC: southbound on I-44\, take exit 80 in Chickasha to access HWY 81 south. Continue south to Duncan\, turn east on Main St.  \n\n\n\nContact Us\n\n580.252.8696mainstreetduncan@sbcglobal.net \n\n\n\nVendor Application\nVendor Registration for this event is now closed. Thank you for your interest!\n \n\n  \nTHANK YOU TO OUR SPONSORS\n 
URL:https://mainstreetduncan.com/event/winen-on-the-chisholm-trail/
LOCATION:10th and Main St.\, 926 W. Main St.\, Duncan\, OK\, 73533\, United States
CATEGORIES:Main Events
ATTACH;FMTTYPE=image/png:https://mainstreetduncan.com/wp-content/uploads/2024/08/Winen.png
END:VEVENT
END:VCALENDAR