BEGIN:VCALENDAR
VERSION:2.0
PRODID:-//Main Street Duncan - ECPv6.15.20//NONSGML v1.0//EN
CALSCALE:GREGORIAN
METHOD:PUBLISH
X-ORIGINAL-URL:https://mainstreetduncan.com
X-WR-CALDESC:Events for Main Street Duncan
REFRESH-INTERVAL;VALUE=DURATION:PT1H
X-Robots-Tag:noindex
X-PUBLISHED-TTL:PT1H
BEGIN:VTIMEZONE
TZID:America/Chicago
BEGIN:DAYLIGHT
TZOFFSETFROM:-0600
TZOFFSETTO:-0500
TZNAME:CDT
DTSTART:20240310T080000
END:DAYLIGHT
BEGIN:STANDARD
TZOFFSETFROM:-0500
TZOFFSETTO:-0600
TZNAME:CST
DTSTART:20241103T070000
END:STANDARD
BEGIN:DAYLIGHT
TZOFFSETFROM:-0600
TZOFFSETTO:-0500
TZNAME:CDT
DTSTART:20250309T080000
END:DAYLIGHT
BEGIN:STANDARD
TZOFFSETFROM:-0500
TZOFFSETTO:-0600
TZNAME:CST
DTSTART:20251102T070000
END:STANDARD
BEGIN:DAYLIGHT
TZOFFSETFROM:-0600
TZOFFSETTO:-0500
TZNAME:CDT
DTSTART:20260308T080000
END:DAYLIGHT
BEGIN:STANDARD
TZOFFSETFROM:-0500
TZOFFSETTO:-0600
TZNAME:CST
DTSTART:20261101T070000
END:STANDARD
END:VTIMEZONE
BEGIN:VEVENT
DTSTART;TZID=America/Chicago:20250603T110000
DTEND;TZID=America/Chicago:20250603T120000
DTSTAMP:20260424T045820
CREATED:20250129T165833Z
LAST-MODIFIED:20250129T165833Z
UID:2739-1748948400-1748952000@mainstreetduncan.com
SUMMARY:Main Street Duncan Design Committee Meeting
DESCRIPTION:
URL:https://mainstreetduncan.com/event/main-street-duncan-design-committee-meeting-5/
LOCATION:Main Street Duncan\, 828 W Main St B\, Duncan\, OK\, 73533\, United States
CATEGORIES:Committee Meetings
ATTACH;FMTTYPE=image/png:https://mainstreetduncan.com/wp-content/uploads/2025/01/MainStreet-logo-e1738169021716.png
END:VEVENT
END:VCALENDAR